BEGIN:VCALENDAR
VERSION:2.0
PRODID:-//Twinhouses International Training Schools - ECPv6.15.17.1//NONSGML v1.0//EN
CALSCALE:GREGORIAN
METHOD:PUBLISH
X-ORIGINAL-URL:https://thits.org/live
X-WR-CALDESC:Events for Twinhouses International Training Schools
REFRESH-INTERVAL;VALUE=DURATION:PT1H
X-Robots-Tag:noindex
X-PUBLISHED-TTL:PT1H
BEGIN:VTIMEZONE
TZID:Africa/Mbabane
BEGIN:STANDARD
TZOFFSETFROM:+0200
TZOFFSETTO:+0200
TZNAME:SAST
DTSTART:20250101T000000
END:STANDARD
END:VTIMEZONE
BEGIN:VEVENT
DTSTART;VALUE=DATE:20260706
DTEND;VALUE=DATE:20260725
DTSTAMP:20260417T214214
CREATED:20260319T144331Z
LAST-MODIFIED:20260319T163222Z
UID:1983-1783296000-1784937599@thits.org
SUMMARY:Auditing and Control of Public Procurement
DESCRIPTION:
URL:https://thits.org/live/event/auditing-and-control-of-public-procurement/
LOCATION:United States of America\, United States
CATEGORIES:Short Courses
ATTACH;FMTTYPE=image/jpeg:https://thits.org/live/wp-content/uploads/2026/03/statue-liberty-new-york-city-skyline-usa_268835-777.jpg
ORGANIZER;CN="Twin Houses International Training Schools":MAILTO:info@thits.org
END:VEVENT
END:VCALENDAR