BEGIN:VCALENDAR
VERSION:2.0
PRODID:-//Twinhouses International Training Schools - ECPv6.15.17.1//NONSGML v1.0//EN
CALSCALE:GREGORIAN
METHOD:PUBLISH
X-WR-CALNAME:Twinhouses International Training Schools
X-ORIGINAL-URL:https://thits.org/live
X-WR-CALDESC:Events for Twinhouses International Training Schools
REFRESH-INTERVAL;VALUE=DURATION:PT1H
X-Robots-Tag:noindex
X-PUBLISHED-TTL:PT1H
BEGIN:VTIMEZONE
TZID:Africa/Mbabane
BEGIN:STANDARD
TZOFFSETFROM:+0200
TZOFFSETTO:+0200
TZNAME:SAST
DTSTART:20250101T000000
END:STANDARD
END:VTIMEZONE
BEGIN:VEVENT
DTSTART;VALUE=DATE:20260928
DTEND;VALUE=DATE:20261010
DTSTAMP:20260420T092430
CREATED:20260319T144747Z
LAST-MODIFIED:20260319T144747Z
UID:1990-1790553600-1791590399@thits.org
SUMMARY:Advanced Balance Scorecard & AI
DESCRIPTION:
URL:https://thits.org/live/event/advanced-balance-scorecard-ai/
LOCATION:France\, France
CATEGORIES:Short Courses
ATTACH;FMTTYPE=image/jpeg:https://thits.org/live/wp-content/uploads/2026/03/50289.jpg
ORGANIZER;CN="Twin Houses International Training Schools":MAILTO:info@thits.org
END:VEVENT
BEGIN:VEVENT
DTSTART;VALUE=DATE:20260928
DTEND;VALUE=DATE:20261010
DTSTAMP:20260420T092430
CREATED:20260319T144559Z
LAST-MODIFIED:20260319T144559Z
UID:1986-1790553600-1791590399@thits.org
SUMMARY:Agile Innovation Management in Good Governance
DESCRIPTION:
URL:https://thits.org/live/event/agile-innovation-management-in-good-governance/
LOCATION:United Kingdom\, United Kingdom
CATEGORIES:Short Courses
ATTACH;FMTTYPE=image/jpeg:https://thits.org/live/wp-content/uploads/2026/03/1396.jpg
ORGANIZER;CN="Twin Houses International Training Schools":MAILTO:info@thits.org
END:VEVENT
BEGIN:VEVENT
DTSTART;VALUE=DATE:20260706
DTEND;VALUE=DATE:20260725
DTSTAMP:20260420T092430
CREATED:20260319T144331Z
LAST-MODIFIED:20260319T163222Z
UID:1983-1783296000-1784937599@thits.org
SUMMARY:Auditing and Control of Public Procurement
DESCRIPTION:
URL:https://thits.org/live/event/auditing-and-control-of-public-procurement/
LOCATION:United States of America\, United States
CATEGORIES:Short Courses
ATTACH;FMTTYPE=image/jpeg:https://thits.org/live/wp-content/uploads/2026/03/statue-liberty-new-york-city-skyline-usa_268835-777.jpg
ORGANIZER;CN="Twin Houses International Training Schools":MAILTO:info@thits.org
END:VEVENT
BEGIN:VEVENT
DTSTART;VALUE=DATE:20260609
DTEND;VALUE=DATE:20260621
DTSTAMP:20260420T092430
CREATED:20260319T144138Z
LAST-MODIFIED:20260319T144138Z
UID:1981-1780963200-1781999999@thits.org
SUMMARY:Unified Procurement Management
DESCRIPTION:
URL:https://thits.org/live/event/unified-procurement-management/
LOCATION:Canada\, Canada
CATEGORIES:Short Courses
ATTACH;FMTTYPE=image/jpeg:https://thits.org/live/wp-content/uploads/2026/03/3530.jpg
ORGANIZER;CN="Twin Houses International Training Schools":MAILTO:info@thits.org
END:VEVENT
BEGIN:VEVENT
DTSTART;VALUE=DATE:20260609
DTEND;VALUE=DATE:20260614
DTSTAMP:20260420T092430
CREATED:20260313T093408Z
LAST-MODIFIED:20260313T093408Z
UID:1593-1780963200-1781395199@thits.org
SUMMARY:Adaptive Leadership in Uncertain Times
DESCRIPTION:
URL:https://thits.org/live/event/adaptive-leadership-in-uncertain-times/
LOCATION:Canada\, Canada
CATEGORIES:Short Courses
ATTACH;FMTTYPE=image/jpeg:https://thits.org/live/wp-content/uploads/2026/03/3530.jpg
ORGANIZER;CN="Twin Houses International Training Schools":MAILTO:info@thits.org
END:VEVENT
BEGIN:VEVENT
DTSTART;VALUE=DATE:20260504
DTEND;VALUE=DATE:20260523
DTSTAMP:20260420T092430
CREATED:20260313T093009Z
LAST-MODIFIED:20260319T162409Z
UID:1589-1777852800-1779494399@thits.org
SUMMARY:Financial Planning and Modelling
DESCRIPTION:
URL:https://thits.org/live/event/financial-planning-and-modelling/
LOCATION:Italy\, Italy
CATEGORIES:Short Courses
ATTACH;FMTTYPE=image/jpeg:https://thits.org/live/wp-content/uploads/2026/03/pexels-hiteshchoudhary-1144271.jpg
ORGANIZER;CN="Twin Houses International Training Schools":MAILTO:info@thits.org
END:VEVENT
BEGIN:VEVENT
DTSTART;VALUE=DATE:20260414
DTEND;VALUE=DATE:20260426
DTSTAMP:20260420T092430
CREATED:20260313T092622Z
LAST-MODIFIED:20260313T092622Z
UID:1585-1776124800-1777161599@thits.org
SUMMARY:Executive Office Administration
DESCRIPTION:
URL:https://thits.org/live/event/executive-office-administration/
LOCATION:Germany\, Germany
CATEGORIES:Short Courses
ATTACH;FMTTYPE=image/jpeg:https://thits.org/live/wp-content/uploads/2026/03/803.jpg
ORGANIZER;CN="Twin Houses International Training Schools":MAILTO:info@thits.org
END:VEVENT
BEGIN:VEVENT
DTSTART;VALUE=DATE:20260323
DTEND;VALUE=DATE:20260404
DTSTAMP:20260420T092430
CREATED:20260313T084456Z
LAST-MODIFIED:20260313T084456Z
UID:1561-1774224000-1775260799@thits.org
SUMMARY:Auditing\, Governance\, Risk and Compliance
DESCRIPTION:
URL:https://thits.org/live/event/auditing-governance-risk-and-compliance/
LOCATION:bangkok\, France
CATEGORIES:Short Courses
ATTACH;FMTTYPE=image/jpeg:https://thits.org/live/wp-content/uploads/2026/03/50289.jpg
ORGANIZER;CN="Twin Houses International Training Schools":MAILTO:info@thits.org
END:VEVENT
END:VCALENDAR