BEGIN:VCALENDAR
VERSION:2.0
PRODID:-//Twinhouses International Training Schools - ECPv6.15.17.1//NONSGML v1.0//EN
CALSCALE:GREGORIAN
METHOD:PUBLISH
X-WR-CALNAME:Twinhouses International Training Schools
X-ORIGINAL-URL:https://thits.org/live
X-WR-CALDESC:Events for Twinhouses International Training Schools
REFRESH-INTERVAL;VALUE=DURATION:PT1H
X-Robots-Tag:noindex
X-PUBLISHED-TTL:PT1H
BEGIN:VTIMEZONE
TZID:Africa/Mbabane
BEGIN:STANDARD
TZOFFSETFROM:+0200
TZOFFSETTO:+0200
TZNAME:SAST
DTSTART:20250101T000000
END:STANDARD
END:VTIMEZONE
BEGIN:VEVENT
DTSTART;VALUE=DATE:20261109
DTEND;VALUE=DATE:20261121
DTSTAMP:20260420T073823
CREATED:20260319T145553Z
LAST-MODIFIED:20260319T145553Z
UID:1997-1794182400-1795219199@thits.org
SUMMARY:Performance Based Budgeting and Budgetary Control
DESCRIPTION:
URL:https://thits.org/live/event/performance-based-budgeting-and-budgetary-control/
LOCATION:Italy\, Italy
CATEGORIES:Short Courses
ATTACH;FMTTYPE=image/jpeg:https://thits.org/live/wp-content/uploads/2026/03/pexels-hiteshchoudhary-1144271.jpg
ORGANIZER;CN="Twin Houses International Training Schools":MAILTO:info@thits.org
END:VEVENT
BEGIN:VEVENT
DTSTART;VALUE=DATE:20261109
DTEND;VALUE=DATE:20261121
DTSTAMP:20260420T073823
CREATED:20260319T145951Z
LAST-MODIFIED:20260319T145951Z
UID:2000-1794182400-1795219199@thits.org
SUMMARY:Sport Medicine Administration
DESCRIPTION:
URL:https://thits.org/live/event/sport-medicine-administration/
LOCATION:Turkey\, Turkey
CATEGORIES:Short Courses
ATTACH;FMTTYPE=image/jpeg:https://thits.org/live/wp-content/uploads/2026/03/beautiful-suleymaniye-camii-istanbul_661209-313.jpg
ORGANIZER;CN="Twin Houses International Training Schools":MAILTO:info@thits.org
END:VEVENT
END:VCALENDAR